BEGIN:VCALENDAR
VERSION:2.0
PRODID:-//Cuny &amp; Guerber - ECPv5.14.0.4//NONSGML v1.0//EN
CALSCALE:GREGORIAN
METHOD:PUBLISH
X-WR-CALNAME:Cuny &amp; Guerber
X-ORIGINAL-URL:https://cuny.biz
X-WR-CALDESC:Events for Cuny &amp; Guerber
REFRESH-INTERVAL;VALUE=DURATION:PT1H
X-Robots-Tag:noindex
X-PUBLISHED-TTL:PT1H
BEGIN:VTIMEZONE
TZID:UTC
BEGIN:STANDARD
TZOFFSETFROM:+0000
TZOFFSETTO:+0000
TZNAME:UTC
DTSTART:20250101T000000
END:STANDARD
END:VTIMEZONE
BEGIN:VEVENT
DTSTART;VALUE=DATE:20250527
DTEND;VALUE=DATE:20250528
DTSTAMP:20260420T053239
CREATED:20250521T144405Z
LAST-MODIFIED:20250521T144405Z
UID:351048-1748304000-1748390399@cuny.biz
SUMMARY:Memorial Day
DESCRIPTION:
URL:https://cuny.biz/event/memorial-day/
ORGANIZER;CN="Chris%20Wilson":MAILTO:cwilson@cuny.biz
END:VEVENT
END:VCALENDAR