BEGIN:VCALENDAR
VERSION:2.0
PRODID:-//Cuny &amp; Guerber - ECPv5.14.0.4//NONSGML v1.0//EN
CALSCALE:GREGORIAN
METHOD:PUBLISH
X-WR-CALNAME:Cuny &amp; Guerber
X-ORIGINAL-URL:https://cuny.biz
X-WR-CALDESC:Events for Cuny &amp; Guerber
REFRESH-INTERVAL;VALUE=DURATION:PT1H
X-Robots-Tag:noindex
X-PUBLISHED-TTL:PT1H
BEGIN:VTIMEZONE
TZID:UTC
BEGIN:STANDARD
TZOFFSETFROM:+0000
TZOFFSETTO:+0000
TZNAME:UTC
DTSTART:20250101T000000
END:STANDARD
END:VTIMEZONE
BEGIN:VEVENT
DTSTART;TZID=UTC:20250524T140000
DTEND;TZID=UTC:20250524T170000
DTSTAMP:20260420T053239
CREATED:20250521T144612Z
LAST-MODIFIED:20250521T144612Z
UID:351051-1748095200-1748106000@cuny.biz
SUMMARY:Early Closing
DESCRIPTION:
URL:https://cuny.biz/event/early-closing/
END:VEVENT
END:VCALENDAR